BEGIN:VCALENDAR
VERSION:2.0
PRODID:-//Федерация шахмат Свердловской области - ECPv6.3.5//NONSGML v1.0//EN
CALSCALE:GREGORIAN
METHOD:PUBLISH
X-WR-CALNAME:Федерация шахмат Свердловской области
X-ORIGINAL-URL:https://ural-chess.com
X-WR-CALDESC:Мероприятия для Федерация шахмат Свердловской области
REFRESH-INTERVAL;VALUE=DURATION:PT1H
X-Robots-Tag:noindex
X-PUBLISHED-TTL:PT1H
BEGIN:VTIMEZONE
TZID:Europe/Moscow
BEGIN:STANDARD
TZOFFSETFROM:+0300
TZOFFSETTO:+0300
TZNAME:MSK
DTSTART:20240101T000000
END:STANDARD
END:VTIMEZONE
BEGIN:VEVENT
DTSTART;TZID=Europe/Moscow:20240522T080000
DTEND;TZID=Europe/Moscow:20241229T170000
DTSTAMP:20260422T094845
CREATED:20240522T100821Z
LAST-MODIFIED:20240522T100844Z
UID:90993-1716364800-1735491600@ural-chess.com
SUMMARY:Кубок Компрессорного микрорайона
DESCRIPTION:ПОЛОЖЕНИЕ: kubok-kompressornogo-mikrorajona-2024
URL:https://ural-chess.com/event/kubok-kompressornogo-mikrorajona/
END:VEVENT
BEGIN:VEVENT
DTSTART;TZID=Europe/Moscow:20241101T080000
DTEND;TZID=Europe/Moscow:20241231T170000
DTSTAMP:20260422T094845
CREATED:20241101T165556Z
LAST-MODIFIED:20241101T165556Z
UID:95020-1730448000-1735664400@ural-chess.com
SUMMARY:Итоги судейского семинара
DESCRIPTION:Итоги судейского семинара: protokol-s-rezultatami-testirovaniya-uchastnikov-sudejskogo-seminara-v-sverdlovskoj-oblasti
URL:https://ural-chess.com/event/itogi-sudejskogo-seminara/
END:VEVENT
BEGIN:VEVENT
DTSTART;TZID=Europe/Moscow:20241206T080000
DTEND;TZID=Europe/Moscow:20250119T170000
DTSTAMP:20260422T094845
CREATED:20241206T143220Z
LAST-MODIFIED:20241224T181558Z
UID:95931-1733472000-1737306000@ural-chess.com
SUMMARY:Блиц Гран-при России\, Мемориал Д.С. Щербина
DESCRIPTION:ПОЛОЖЕНИЕ: blicz-gran-pri-shherbin \n  \n 
URL:https://ural-chess.com/event/blicz-gran-pri-rossii-memorial-d-s-shherbina/
END:VEVENT
BEGIN:VEVENT
DTSTART;TZID=Europe/Moscow:20241206T080000
DTEND;TZID=Europe/Moscow:20250120T170000
DTSTAMP:20260422T094845
CREATED:20241206T143329Z
LAST-MODIFIED:20250223T044211Z
UID:95933-1733472000-1737392400@ural-chess.com
SUMMARY:Рапид Гран-при России\, Мемориал Д.С. Щербина
DESCRIPTION: ПОЛОЖЕНИЕ: rapid-gran-pri-shherbin \nВсе необходимые документы для присвоения разрядов \nhttps://disk.yandex.ru/d/F1K528VMTSDBbQ \n  \n 
URL:https://ural-chess.com/event/rapid-gran-pri-rossii-memorial-d-s-shherbina/
END:VEVENT
BEGIN:VEVENT
DTSTART;TZID=Europe/Moscow:20241214T080000
DTEND;TZID=Europe/Moscow:20251231T170000
DTSTAMP:20260422T094845
CREATED:20241214T141824Z
LAST-MODIFIED:20241214T141824Z
UID:96185-1734163200-1767200400@ural-chess.com
SUMMARY:Календарный план ФШР на 2025 год
DESCRIPTION:ПЛАН НА 2025 год: v.5-kalendar-fshr-2025-f
URL:https://ural-chess.com/event/kalendarnyj-plan-fshr-na-2025-god/
END:VEVENT
BEGIN:VEVENT
DTSTART;TZID=Europe/Moscow:20241228T080000
DTEND;TZID=Europe/Moscow:20250108T170000
DTSTAMP:20260422T094845
CREATED:20241228T110230Z
LAST-MODIFIED:20241228T110230Z
UID:96536-1735372800-1736355600@ural-chess.com
SUMMARY:Турнир памяти А .Г. Адабаша
DESCRIPTION:polozhenie-turnira-po-bliczu-pamyati-a.g.-adabasha-2025_0001 \nprilozhenie-k-polozheniyu-turnira-po-bliczu-pamyati-a.g.adabasha-2025_0001-1
URL:https://ural-chess.com/event/turnir-pamyati-a-g-adabasha/
END:VEVENT
BEGIN:VEVENT
DTSTART;TZID=Europe/Moscow:20241228T080000
DTEND;TZID=Europe/Moscow:20250129T170000
DTSTAMP:20260422T094845
CREATED:20241228T110345Z
LAST-MODIFIED:20241228T110345Z
UID:96541-1735372800-1738170000@ural-chess.com
SUMMARY:Мемориал М. С. Соловьёва
DESCRIPTION:polozhenie-turnira-po-rapidu-pamyati-m.s.soloveva-2025_0001 \nprilozhenie-k-polozheniyu-turnira-po-rapidu-pamyati-m.s.soloveva_0001
URL:https://ural-chess.com/event/memorial-m-s-solovyova/
END:VEVENT
END:VCALENDAR