BEGIN:VCALENDAR
VERSION:2.0
PRODID:-//Федерация шахмат Свердловской области - ECPv6.3.5//NONSGML v1.0//EN
CALSCALE:GREGORIAN
METHOD:PUBLISH
X-ORIGINAL-URL:https://ural-chess.com
X-WR-CALDESC:Мероприятия для Федерация шахмат Свердловской области
REFRESH-INTERVAL;VALUE=DURATION:PT1H
X-Robots-Tag:noindex
X-PUBLISHED-TTL:PT1H
BEGIN:VTIMEZONE
TZID:Europe/Moscow
BEGIN:STANDARD
TZOFFSETFROM:+0300
TZOFFSETTO:+0300
TZNAME:MSK
DTSTART:20240101T000000
END:STANDARD
END:VTIMEZONE
BEGIN:VEVENT
DTSTART;TZID=Europe/Moscow:20240522T080000
DTEND;TZID=Europe/Moscow:20241229T170000
DTSTAMP:20260422T130921
CREATED:20240522T100821Z
LAST-MODIFIED:20240522T100844Z
UID:90993-1716364800-1735491600@ural-chess.com
SUMMARY:Кубок Компрессорного микрорайона
DESCRIPTION:ПОЛОЖЕНИЕ: kubok-kompressornogo-mikrorajona-2024
URL:https://ural-chess.com/event/kubok-kompressornogo-mikrorajona/
END:VEVENT
BEGIN:VEVENT
DTSTART;TZID=Europe/Moscow:20241001T080000
DTEND;TZID=Europe/Moscow:20241114T170000
DTSTAMP:20260422T130921
CREATED:20241001T081019Z
LAST-MODIFIED:20241001T081019Z
UID:94236-1727769600-1731603600@ural-chess.com
SUMMARY:Первенство УрФО
DESCRIPTION:ПРОЕКТЫ РЕГЛАМЕНТОВ: Первенство УрФО 2024 по шахматной композиции (соревнования) \n Первенство УрФО 2024 по шахматам \n Первенство УрФО 2024 по быстрым шахматам  \nПервенство УрФО 2024 по блицу
URL:https://ural-chess.com/event/pervenstvo-urfo/
END:VEVENT
BEGIN:VEVENT
DTSTART;TZID=Europe/Moscow:20241007T080000
DTEND;TZID=Europe/Moscow:20241028T170000
DTSTAMP:20260422T130921
CREATED:20241007T132155Z
LAST-MODIFIED:20241007T132654Z
UID:94424-1728288000-1730134800@ural-chess.com
SUMMARY:Чемпионат области по рапиду и блицу (мужчины\, женщины)
DESCRIPTION:ПРОЕКТ ПОЛОЖЕНИЯ: 07-10-2024_16-07-08
URL:https://ural-chess.com/event/chempionat-oblasti-po-rapidu-i-bliczu-muzhchiny-zhenshhiny/
END:VEVENT
END:VCALENDAR