BEGIN:VCALENDAR
VERSION:2.0
PRODID:-//Федерация шахмат Свердловской области - ECPv6.3.5//NONSGML v1.0//EN
CALSCALE:GREGORIAN
METHOD:PUBLISH
X-ORIGINAL-URL:https://ural-chess.com
X-WR-CALDESC:Мероприятия для Федерация шахмат Свердловской области
REFRESH-INTERVAL;VALUE=DURATION:PT1H
X-Robots-Tag:noindex
X-PUBLISHED-TTL:PT1H
BEGIN:VTIMEZONE
TZID:Europe/Moscow
BEGIN:STANDARD
TZOFFSETFROM:+0300
TZOFFSETTO:+0300
TZNAME:MSK
DTSTART:20240101T000000
END:STANDARD
END:VTIMEZONE
BEGIN:VEVENT
DTSTART;TZID=Europe/Moscow:20240522T080000
DTEND;TZID=Europe/Moscow:20241229T170000
DTSTAMP:20260422T145121
CREATED:20240522T100821Z
LAST-MODIFIED:20240522T100844Z
UID:90993-1716364800-1735491600@ural-chess.com
SUMMARY:Кубок Компрессорного микрорайона
DESCRIPTION:ПОЛОЖЕНИЕ: kubok-kompressornogo-mikrorajona-2024
URL:https://ural-chess.com/event/kubok-kompressornogo-mikrorajona/
END:VEVENT
BEGIN:VEVENT
DTSTART;TZID=Europe/Moscow:20240905T080000
DTEND;TZID=Europe/Moscow:20241013T170000
DTSTAMP:20260422T145121
CREATED:20240905T104958Z
LAST-MODIFIED:20241024T213840Z
UID:93670-1725523200-1728838800@ural-chess.com
SUMMARY:«Кубок Благотворительного фонда «Дети России»
DESCRIPTION:Регламент и таблицы с печатями: Кубок Благотворительного фонда Дети России \n  \n  \n  \n 
URL:https://ural-chess.com/event/kubok-blagotvoritelnogo-fonda-deti-rossii-2/
END:VEVENT
BEGIN:VEVENT
DTSTART;TZID=Europe/Moscow:20240916T080000
DTEND;TZID=Europe/Moscow:20241014T170000
DTSTAMP:20260422T145121
CREATED:20240916T095058Z
LAST-MODIFIED:20241025T083108Z
UID:93909-1726473600-1728925200@ural-chess.com
SUMMARY:Командный чемпионат области (быстрые)
DESCRIPTION:Область — команды. рапид\, таблицы с печатями: Чемпионат Свердловской области Первоуральск 13 октября \n 
URL:https://ural-chess.com/event/komandnyj-chempionat-oblasti-bystrye/
END:VEVENT
END:VCALENDAR