BEGIN:VCALENDAR
VERSION:2.0
PRODID:-//Федерация шахмат Свердловской области - ECPv6.3.5//NONSGML v1.0//EN
CALSCALE:GREGORIAN
METHOD:PUBLISH
X-ORIGINAL-URL:https://ural-chess.com
X-WR-CALDESC:Мероприятия для Федерация шахмат Свердловской области
REFRESH-INTERVAL;VALUE=DURATION:PT1H
X-Robots-Tag:noindex
X-PUBLISHED-TTL:PT1H
BEGIN:VTIMEZONE
TZID:Europe/Moscow
BEGIN:STANDARD
TZOFFSETFROM:+0300
TZOFFSETTO:+0300
TZNAME:MSK
DTSTART:20240101T000000
END:STANDARD
END:VTIMEZONE
BEGIN:VEVENT
DTSTART;TZID=Europe/Moscow:20240115T080000
DTEND;TZID=Europe/Moscow:20240331T170000
DTSTAMP:20260423T011033
CREATED:20240329T075959Z
LAST-MODIFIED:20240329T075959Z
UID:89167-1705305600-1711904400@ural-chess.com
SUMMARY:Даты проведения областных и всероссийских соревнований на первый квартал 2024 года
DESCRIPTION:Определены даты проведения областных и всероссийских соревнований на первый квартал 2024 года:\n\n\n27.01.2024 — Областные соревнования по быстрым шахматам «Новый Гамбит» среди мальчиков и девочек до 9 лет\, 11 лет\, 13 лет\, юношей и девушек до 15 лет\, 17 лет\, 19 лет. Г. Красноуфимск Регламент с печатями: Регламен Новый Гамбит Красноуфимск 2024_0001\n19.02.2024 (день приезда) — 26.02.2024 (день отъезда) — XIII Всероссийские соревнования по шахматам памяти первого уральского мастера С.М. Левитского – этапа Кубка России 2024 года среди мальчиков и девочек до 9\, 11\, 13 лет и юношей и девушек до 15 лет. Г. Нижний Тагил РЕГЛАМЕНТ С ПЕЧАТЬЮ: Регламент Левитского_0001\n24.02.2024 — Областные соревнования среди семейных команд Свердловской области. Г. Екатеринбург РЕГЛАМЕНТ С ПЕЧАТЬЮ: Положение Област соревнов среди семейных команд Сверд обл_0001\n25.02.2024 (день приезда) — 02.03.2024 (день отъезда) — Первенство Свердловской области по шахматам среди мальчиков и девочек до 9 лет. Г. Екатеринбург\n04.03. 2024 (день приезда) — 11.03.2024 (день отъезда) — Всероссийские соревнования по шахматам «Кубок Титанов» – этап соревнований на Кубок России 2024 года среди мальчиков и девочек до 9\, 11\, 13 лет и юношей и девушек до 15 лет. Г. Верхняя Салда РЕГЛАМЕНТ С ПЕЧАТЬЮ: Кубок Титанов 2024_0001\n17.03.2024 (день приезда) — 30.03.2024 (день отъезда) — Областной этап всероссийских соревнований по шахматам среди команд общеобразовательных учреждений — «Белая ладья» 2024 года. Невьянский ГО\, ЗОЦ «Таватуй» РЕГЛАМЕНТ С ПЕЧАТЬЮ: Положение Белая ладья 2024_0001\n\n\nПервенство России: 37-RG
URL:https://ural-chess.com/event/daty-provedeniya-oblastnyh-i-vserossijskih-sorevnovanij-na-pervyj-kvartal-2024-goda/
END:VEVENT
BEGIN:VEVENT
DTSTART;TZID=Europe/Moscow:20240130T080000
DTEND;TZID=Europe/Moscow:20240331T170000
DTSTAMP:20260423T011033
CREATED:20240329T075539Z
LAST-MODIFIED:20240329T075539Z
UID:89159-1706601600-1711904400@ural-chess.com
SUMMARY:Областной финал "Белой ладьи"
DESCRIPTION:Областной финал «Белой ладьи». \nСтраница на сайте Фонда «Золотое сечение»создана\, дети могут подавать заявки. Ссылка в Положении актуальная.Участники команд обязаны зарегистрироваться на сайте «Золотого сечения» по ссылке https://zsfond.ru/sport/intensives/course/?course-id=079c777e-bf9c-4511-a9d7-c6608d175b42 до 20.02.2024 г. \n20.02 закрывается регистрация на сайте Фонда\nНеобходимо заполнить таблицы по питанию и заезду (во вложении)\, заявки на Белую ладью (согласно положению)\, таблицы отборочных муниципальных этапов необходимо выслать до 20.02.2024 Першиной Елене Геннадьевне (тел.: 8 909 0220463\, lenapg@rambler.ru)\nИНФОРМАЦИЯ ПО ТУРНИРУ ЗДЕСЬ: 30-01-2024_11-00-10\nПоложение Белая ладья 2024_0001_0001\nСписок сопровождающих тренеров БЛ 2024\n\nЗаявка на питание в общем пакете документов.: \n\n\n\nГРАФИК ОРГАНИЗАЦИИ ПИТАНИЯ НА ОБРАЗОВАТЕЛЬНОЙ СМЕНЕ В ПЕРИОД с 17.03.2024 по 30.03.2024\n\n\nТурнир «Белая ладья»\n\n\n\n\n17.03.2024\n18.03.2024\n19.03.2024\n20.03.2024\n21.03.2024\n22.03.2024\n23.03.2024\n24.03.2024\n25.03.2024\n26.03.2024\n27.03.2024\n28.03.2024\n29.03.2024\n30.03.2024\n\n\n\nужин\n завтрак\, обед\,  ужин\n завтрак\, обед\,  ужин\n завтрак\, обед\,  ужин\n завтрак\, обед\,  ужин\n завтрак\, обед\,  ужин\n завтрак\, обед\,  ужин\n завтрак\, обед\,  ужин\n завтрак\, обед\,  ужин\n завтрак\, обед\,  ужин\n завтрак\, обед\,  ужин\n завтрак\, обед\,  ужин\n завтрак\, обед\,  ужин\nзавтрак\n\n\nКомиссаров Владимир Владимирович\nзавтрак\n\n1\n1\n1\n1\n1\n\n\n\n\n\n\n\n\n\n\nобед\n1\n1\n1\n1\n1\n1\n\n\n\n\n\n\n\n\n\n\nужин\n1\n1\n1\n1\n1\n\n\n\n\n\n\n\n\n\n\n\n\nзавтрак\n\n\n\n\n\n\n\n\n\n\n\n\n\n\n\n\nобед\n\n\n\n\n\n\n\n\n\n\n\n\n\n\n\n\nужин\n\n\n\n\n\n\n\n\n\n\n\n\n\n\n\n\n\nзавтрак\n\n\n\n\n\n\n\n\n\n\n\n\n\n\n\n\nобед\n\n\n\n\n\n\n\n\n\n\n\n\n\n\n\n\nужин\n\n\n\n\n\n\n\n\n\n\n\n\n\n\n\n\n\nзавтрак\n\n\n\n\n\n\n\n\n\n\n\n\n\n\n\n\nобед\n\n\n\n\n\n\n\n\n\n\n\n\n\n\n\n\nужин\n\n\n\n\n\n\n\n\n\n\n\n\n\n\n\n\n\nзавтрак\n\n\n\n\n\n\n\n\n\n\n\n\n\n\n\n\nобед\n\n\n\n\n\n\n\n\n\n\n\n\n\n\n\n\nужин\n\n\n\n\n\n\n\n\n\n\n\n\n\n\n\n\n\nзавтрак\n\n\n\n\n\n\n\n\n\n\n\n\n\n\n\n\nобед\n\n\n\n\n\n\n\n\n\n\n\n\n\n\n\n\nужин\n\n\n\n\n\n\n\n\n\n\n\n\n\n\n\n\n\nзавтрак\n\n\n\n\n\n\n\n\n\n\n\n\n\n\n\n\nобед\n\n\n\n\n\n\n\n\n\n\n\n\n\n\n\n\nужин\n\n\n\n\n\n\n\n\n\n\n\n\n\n\n\n\n\nзавтрак\n\n\n\n\n\n\n\n\n\n\n\n\n\n\n\n\nобед\n\n\n\n\n\n\n\n\n\n\n\n\n\n\n\n\nужин\n\n\n\n\n\n\n\n\n\n\n\n\n\n\n\n\n\nзавтрак\n\n\n\n\n\n\n\n\n\n\n\n\n\n\n\n\nобед\n\n\n\n\n\n\n\n\n\n\n\n\n\n\n\n\nужин\n\n\n\n\n\n\n\n\n\n\n\n\n\n\n\n\n\n\n\n\n\n\n\n\n\n\n\n\n\n\n\n\n\n\nзавтрак\n\n\n\n\n\n\n\n\n\n\n\n\n\n\n\n\n\nобед\n\n\n\n\n\n\n\n\n\n\n\n\n\n\n\n\n\nужин\n\n\n\n\n\n\n\n\n\n\n\n\n\n\n\n\n\n\n\n\n\n\n\n\n\n\n\n\n\n\n\n\n\n\n\n\n\n\n\n\n\n\n\n\n\n\n\n\n\n\n\n\n\n\n\n\n\n\n\n\n\n\n\n\n\n\n\n\n\n\n\n\n\n\n\n\n\n\n\n\n\n\n\n\n\n\n\n\n\n\n\n\n\n\n\n\n\n\n\n\n\n\n\n\n\n\n\n\n\n\n\n\n\n\n\n\n\n\n\n\n\n\n\n\n\n\n\n\n\n\n\n\n\n\n\n\n\n\n\n\n\n\n\n\n\n\n\n\n\n\n\n\n\n\n\n\n\n\n\n\n\n\n\n\n\n\n\n\n\n\n\n\n\n\n\n\n\n\n\n\n\n\n\n\n\n\n\n\n\n\n\n\n\n\n\n\n\n\n\n\n\n\n\n\n\n\n\n\n\n\n\n\n\n\n\n\n\n\nИНФОРМАЦИЯ-ПАМЯТКА ПРЕДСТАВИТЕЛЯМ КОМАНД:Кураторам/ответственным лицам \nПредварительно (не позднее 2-3 недель до начала смены) всю медицинскую документацию педагогических работников (сканы ВСЕХ страниц личных медицинских книжек\, прививочных сертификатов) необходимо выслать специалисту Фонда «Золотое сечение» на адрес электронной почты: i.sharapaeva@zsfond.ru (Шарапаевой Ирине Петровне) для проверки. \nПосле проведения предварительной проверки кураторам/ответственным лицам будет дана информация о наличии или отсутствии замечаний\, по каждому работнику. \nВ случае наличия замечаний — таковые устраняются. \nГотовые (без замечаний) медицинские документы (личные медицинские книжки и прививочные сертификаты) сдаются вышеуказанному специалисту. \nСдать документы следует не позднее 3 дней до начала смены/заезда по адресу:                         г. Екатеринбург\, ул. Московская\, д.70\, каб. 303\, 3 этаж. \nМедицинские документы до окончания смены остаются в Фонде (при необходимости по запросу предоставляются в Роспотребнадзор для проверки)\, далее документы будут переданы в ЗОЦ «Таватуй» к окончанию смены\, где будут выданы каждому работнику под роспись. \nПо всем возникающим вопросам обращаться к специалисту Фонда «Золотое сечение» Шарапаевой Ирине Петровне\, рабочий тел.: 89122500934 (89022772227). \n  \nВакцинация \nОбязательно наличие сертификата профилактических прививок\, подтверждающего прохождение вакцинации в соответствии с приказом Министерства здравоохранения Российской Федерации от 06.12.2021 № 1122н «Об утверждении национального календаря профилактических прививок\, календаря профилактических прививок по эпидемическим показаниям и порядка проведения профилактических прививок»\, приказом Министерства здравоохранения Свердловской области  от 11.08.2022№ 1811-п «Об утверждении регионального календаря профилактических прививок Свердловской области». \n  \nСписок прививок\, наличие которых требуется с учетом возраста\, пола и сезона года: \n—    гепатит В; \n—    АДСМ (дифтерия); \n—    корь; \n—    краснуха; \n—    паротит; \n—    клещевой энцефалит (требуется в зависимости от сезона года); \n—    грипп (требуется в зависимости от сезона года); \n  \nВ случае имеющихся противопоказаний к вакцинации предоставляется медотвод с указанием причины и на какой срок дан медицинский отвод от вакцинации. \n  \n  \nМедицинский осмотр \nОбязательно наличие личной медицинской книжки (паспорта здоровья или выписки из амбулаторных карт не принимаются) с данными о прохождении медицинского осмотра (В ОБЪЕМЕ ПРЕДВАРИТЕЛЬНОГО МЕДОСМОТРА) в соответствии с требованиями          п. 25 приложения к Порядку проведения обязательных предварительных и периодических медицинских осмотров работников\, утвержденному приказом Министерства здравоохранения Российской Федерации от 28.01.2021г. № 29н «Об утверждении Порядка проведения обязательных предварительных и периодических медицинских осмотров работников\, предусмотренных частью четвертой статьи 213 Трудового кодекса Российской Федерации\, перечня медицинских противопоказаний к осуществлению работ с вредными и (или) опасными производственными факторами\, а также работам\, при выполнении которых проводятся обязательные предварительные и периодические медицинские осмотры» с отметкой о прохождении профессиональной гигиенической подготовки и аттестации. \n  \nСписок врачей\, специалистов и лабораторных исследований\, печати которых должны быть в личной медицинской книжке: \n—    терапевт; \n—    стоматолог; \n—    отоларинголог; \n—    невролог; \n—    нарколог; \n—    психиатр; \n—    флюорография; \n—    исследование на гельминтозы (сдается кал на яйца гельминтов); \n—    серологическое обследование на брюшной тиф (сдается кровь на антитела к брюшному тифу); \n—    исследование на носительство возбудителей кишечных инфекций (сдается кал\, ставится печать: патогенные энтеробактерии не обнаружены или не выявлены); \n—    дерматовенеролог (ставится печать: инфекции или заболевания\, передающиеся половым путём\, не выявлены). \n  \nЛичная медицинская книжка \nБланки личной медицинской книжки распространяются только ФБУЗ «Центр гигиены и эпидемиологии». На территории города Екатеринбурга бланк личной медицинской книжки можно приобрести по следующим адресам: \n  \n\nЦентральный Екатеринбургский филиал ФБУЗ «Центр гигиены и эпидемиологии в Свердловской области в Ленинском\, Верх-Исетском\, Октябрьском и Кировском районах             г. Екатеринбурга»\n\n\nул. Московская\, 49 с 8-00 до 12-00\, тел. 376-43-26\, 376-33-66\n\n  \n\nЮжный Екатеринбургский филиал ФБУЗ «Центр гигиены и эпидемиологии в Свердловской области в Чкаловском районе г. Екатеринбурга\, городе Полевской и Сысертском районе»\n\n\nул. 8 марта\, 177а с 08-00 до 16-00 (перерыв с 12-00 до 13-00)\, тел. 210-94-52.\n\n  \n\nСеверный Екатеринбургский филиал ФБУЗ «Центр гигиены и эпидемиологии в Свердловской области в Орджоникидзевском\, Железнодорожном районах г. Екатеринбурга\, городе Березовский и городе Верхняя Пышма»\n\n\nул. Авангардная\, 5а с 8-30 до 16-30\, (перерыв с 12-00 до 13-00)\, тел. 307-39-39.\n\n  \nДля приобретения бланка личной медицинской книжки при себе необходимо иметь: \n\nПаспорт РФ;\nФотография (3х4);\n\nСтоимость бланка личной медицинской книжки – 300р. \n  \n  \n  \nГигиеническая подготовка и аттестация \nГигиеническая подготовка и аттестация (Сангиг) сдаётся дистанционно в виде теста на сайте gigtest.ru. При прохождении теста необходимо указать номер личной медицинской книжки и адрес\, по которому потом будет оплачиваться Сангиг\, ставиться печать и голограмма (ФБУЗ «Центр гигиены и эпидемиологии»). \nК примеру\, можно выбрать адрес г. Екатеринбург\, ул. Московская\, 49 (напротив ТРЦ Алатырь). \nПосле прохождения распечатать протокол (можно скрин)\, подойти в центр с паспортом\, протоколом\, личной медицинской книжкой\, оплатить\, поставить печать и голограмму. \n(по адресу г. Екатеринбург\, ул. Московская\, 49\, кабинет № 17. Режим работы кабинета: с 8:30 до 15:00 час.\, перерыв с 12:00 до 13:00 час. По другим адресам уточнять самостоятельно). \nСтоимость 830 руб. \n 
URL:https://ural-chess.com/event/oblastnoj-final-beloj-ladi/
END:VEVENT
BEGIN:VEVENT
DTSTART;TZID=Europe/Moscow:20240216T080000
DTEND;TZID=Europe/Moscow:20240311T170000
DTSTAMP:20260423T011033
CREATED:20240329T075306Z
LAST-MODIFIED:20240329T075306Z
UID:89155-1708070400-1710176400@ural-chess.com
SUMMARY:«Кубок Титанов»
DESCRIPTION:«Кубок Титанов» ПОЛОЖЕНИЕ С ПЕЧАТЬЮ: Кубок Титанов 2024 регламент_0001\nИТОГОВЫЕ ТАБЛИЦЫ С ПЕЧАТЯМИ: Scan Кубок Титанов
URL:https://ural-chess.com/event/kubok-titanov/
END:VEVENT
END:VCALENDAR