BEGIN:VCALENDAR
VERSION:2.0
PRODID:-//Федерация шахмат Свердловской области - ECPv6.3.5//NONSGML v1.0//EN
CALSCALE:GREGORIAN
METHOD:PUBLISH
X-WR-CALNAME:Федерация шахмат Свердловской области
X-ORIGINAL-URL:https://ural-chess.com
X-WR-CALDESC:Мероприятия для Федерация шахмат Свердловской области
REFRESH-INTERVAL;VALUE=DURATION:PT1H
X-Robots-Tag:noindex
X-PUBLISHED-TTL:PT1H
BEGIN:VTIMEZONE
TZID:Europe/Moscow
BEGIN:STANDARD
TZOFFSETFROM:+0300
TZOFFSETTO:+0300
TZNAME:MSK
DTSTART:20230101T000000
END:STANDARD
END:VTIMEZONE
BEGIN:VEVENT
DTSTART;TZID=Europe/Moscow:20230119T080000
DTEND;TZID=Europe/Moscow:20231231T170000
DTSTAMP:20260423T092531
CREATED:20240329T081738Z
LAST-MODIFIED:20240329T081738Z
UID:89199-1674115200-1704042000@ural-chess.com
SUMMARY:Календарный план АШРФ УрФО на 2023 год
DESCRIPTION:Календарный план АШРФ УрФО на 2023 год (Расширенный) — Календарный план АРШФ УФО на 2023 \nКалендарный план АШРФ УрФО на 2023 год (Краткий) — Календарный план АРШФ 2023 краткий \nКандидаты в сборные 2024: candidates_2024 \n  \n  \n 
URL:https://ural-chess.com/event/kalendarnyj-plan-ashrf-urfo-na-2023-god/
END:VEVENT
BEGIN:VEVENT
DTSTART;TZID=Europe/Moscow:20230917T080000
DTEND;TZID=Europe/Moscow:20231029T170000
DTSTAMP:20260423T092531
CREATED:20240329T080427Z
LAST-MODIFIED:20240329T080427Z
UID:89173-1694937600-1698598800@ural-chess.com
SUMMARY:«Кубок Благотворительного фонда «Дети России»
DESCRIPTION:ПОЛОЖЕНИЕ С ПЕЧАТЯМИ: Кубок БФ Дети России_0001 \nРЕЗУЛЬТАТЫ И ЖЕРЕБЬЁВКА \nИТОГОВЫЕ ТАБЛИЦЫ И СПИСОК СУДЕЙСКОЙ КОЛЛЕГИИ20-10-2023_04-34-02 \n  \n\nhttps://ural-chess.com/wp-content/uploads/2023/09/VID-20231014-WA0014.mp4\n  \nhttps://ural-chess.com/wp-content/uploads/2023/09/VID-20231014-WA0013.mp4
URL:https://ural-chess.com/event/kubok-blagotvoritelnogo-fonda-deti-rossii/
END:VEVENT
BEGIN:VEVENT
DTSTART;TZID=Europe/Moscow:20230925T080000
DTEND;TZID=Europe/Moscow:20231023T170000
DTSTAMP:20260423T092531
CREATED:20240329T080257Z
LAST-MODIFIED:20240329T080257Z
UID:89171-1695628800-1698080400@ural-chess.com
SUMMARY:Командный чемпионат Свердловской области по рапиду
DESCRIPTION:Регламент о проведении Чемпионата Свердловской области быстрые шахматы командные: 20-10-2023_13-34-34 \nТАБЛИЦА С ПЕЧАТЬЮ: таблица ЧО командник 2023 \nРЕЗУЛЬТАТЫ И ЖЕРЕБЬЁВКА \n  \n  \n  \n  \n 
URL:https://ural-chess.com/event/komandnyj-chempionat-sverdlovskoj-oblasti-po-rapidu/
END:VEVENT
BEGIN:VEVENT
DTSTART;TZID=Europe/Moscow:20230929T080000
DTEND;TZID=Europe/Moscow:20231107T170000
DTSTAMP:20260423T092531
CREATED:20240329T080157Z
LAST-MODIFIED:20240329T080157Z
UID:89169-1695974400-1699376400@ural-chess.com
SUMMARY:Чемпионат Свердловской области среди мужчин
DESCRIPTION:Регламент о проведении чемпионата Свердловской обл по шахматам среди мужчин_0001 \nИТОГИ: https://chess-results.com/tnr827796.aspx… \n  \n  \n  \n \n  \n\n\n\n«Утверждено»\n«Утверждено»\n\n\n\nИсполнительный директор РОО «Федерация шахмат Свердловской области» \n  \n______________________ А.А. Степанян «_____»_______________ 2023 г. \nМ.П.\nДиректор государственного автономного учреждения Свердловской области «Центр спортивной подготовки спортивных сборных команд Свердловской области» \n______________________ Ю.М. Леонов «_____»_______________ 2023 г. \nМ.П.\n\n\n\n«Согласовано»\n«Согласовано»\n\n\n\nНачальник управления по развитию физической культуры\, спорта и молодёжной политики Администрации города Нижний Тагил \n________________ И.Л. Еремеева \n«_____»_________ 2023 г. \nМ.П.\nПрезидент ОО «Нижнетагильская местная \nшахматная федерация» \n  \n______________ Г.И. Абдулов \n«_____»_____________ 2023 г. \nМ.П.\n\n\n\n  \nРЕГЛАМЕНТ \nо проведении чемпионата Свердловской области по шахматам среди мужчин \n  \n\nОБЩИЕ ПОЛОЖЕНИЯ\n\n1.1. Чемпионат Свердловской области по шахматам среди мужчин (далее по тексту — соревнование) проводится с целью дальнейшей популяризации вида спорта «шахматы» в Свердловской области\, повышения спортивного мастерства спортсменов по виду спорта «шахматы»\, присвоения разрядных нормативов\, а также с целью выявления сильнейших спортсменов для формирования спортивных сборных команд Свердловской области по виду спорта «шахматы». \n1.2. Соревнование проводится в соответствии с календарным планом официальных физкультурных мероприятий и спортивных мероприятий Свердловской области на 2022 год. \n1.3. Соревнование проводится в соответствии с правилами вида спорта «Шахматы»\, утвержденными приказом Министерства спорта России 29 декабря 2020 года № 988 (с изменениями\, внесёнными приказами Министерства спорта Российской Федерации от 11 мая 2023 г. №315). \n1.4. Регламент утверждается в соответствии с Положением о региональных официальных спортивных соревнованиях по виду спорта «шахматы» на 2023 год (далее – положение). \n  \n\nОРГАНИЗАТОР ПРОВЕДЕНИЯ СПОРТИВНОГО МЕРОПРИЯТИЯ\n\n2.1. В соответствии с Положением организаторами соревнований являются Министерство физической культуры и спорта Свердловской области в лице государственного автономного учреждения Свердловской области «Центр спортивной подготовки спортивных сборных команд Свердловской области» (далее – ГАУ СО «ЦСП») и Региональная общественная организация «Федерация шахмат Свердловской области» (далее – РОО «ФШСО»)\, а также Общественная организация «Нижнетагильская местная шахматная федерация» (далее – ОО «НТМШФ») при организационной поддержке управления по развитию физической культуры\, спорта и молодежной политики Администрации города Нижний Тагил в лице Муниципального бюджетного учреждения дополнительного образования «Шахматно-шашечный центр» имени Почетного гражданина города Нижний Тагил Евгения Георгиевича Зудова» (далее — МБУ ДО «ШШЦ» имени Е.Г. Зудова»). \n2.2. ОО «НТМШФ» является ответственным из числа организаторов по обеспечению совместно с собственниками\, пользователями объекта спорта\, на котором будет проходить данное соревнование\, мер общественного порядка и общественной безопасности в соответствии с законодательством Российской Федерации. \n2.3. ОО «НТМШФ» обязана обеспечить на территории\, которая будет использована для проведения спортивного мероприятия\, необходимую инфраструктуру и техническое оборудование в соответствии с правилами обеспечения безопасности при проведении официальных спортивных соревнований. \nНе допускать демонстрации участниками и персоналом соревнований атрибутов иностранных государств и территорий\, совершающих в отношении Российской Федерации\, российских юридических лиц и физических лиц недружественные действия\, включенных в перечень\, утвержденный распоряжением Правительства Российской Федерации от 05.03.2022 № 430-р\, в том числе использование предметов материального мира с нанесенными на них наименованиями\, государственными символами\, географическими границами таких государств и территорий и иными изображениями\, позволяющими идентифицировать указанные государства и территории. \n2.4. Непосредственное проведение возлагается на судейскую коллегию. Главный судья – Иванов В.П.\, СС1К. \nДиректор соревнования – Погромский Михаил Сергеевич. \n  \n\nОБЕСПЕЧЕНИЕ БЕЗОПАСНОСТИ УЧАСТНИКОВ И ЗРИТЕЛЕЙ\, МЕДИЦИНСКОЕ ОБЕСПЕЧЕНИЕ\, АНТИДОПИНГОВОЕ ОБЕСПЕЧЕНИЕ СПОРТИВНЫХ СОРЕВНОВАНИЙ \n\n3.1. Спортивные соревнования проводятся в соответствии с Федеральным законом от 04.12.2007 г. № 329-ФЗ «О физической культуре и спорте в Российской Федерации». \nСоревнования могут проводиться в местах проведения официальных спортивных соревнований должны иметь необходимую инфраструктуру\, системы видеонаблюдения\, позволяющие осуществлять идентификацию физических лиц во время их нахождения в местах проведения официальных спортивных соревнований\, и техническое оборудование в соответствии с правилами обеспечения безопасности при проведении официальных спортивных соревнований согласно п. 9 ст.37 «объекты спорта» 329-ФЗ. \n\nЛица\, в собственности или во владении которых находятся объекты спорта\, обеспечивают надлежащее техническое оборудование мест проведения физкультурных мероприятий или спортивных мероприятий в соответствии с требованиями технических регламентов\, нормами\, правилами и требованиями\, установленными органами государственного контроля (надзора)\, санитарными правилами и несут ответственность в соответствии с законодательством Российской Федерации за причинение вреда жизни или здоровью лиц\, осуществляющих занятия физической культурой и спортом на таких объектах спорта.\n\n3.3. Обеспечение безопасности участников и зрителей на спортивных соревнованиях осуществляется согласно требованиям Правил обеспечение безопасности при проведении официальных мероприятий\, утвержденных постановлением Правительства Российской Федерации от 18 апреля 2015г. №353. \n3.3.1. Правила охраны жизни людей на водных объектах в Свердловской области осуществляются согласно постановлению Правительства Свердловской области от 27.09.2018 года № 639-ПП «Об утверждении правил охраны жизни людей на водных объектах в Свердловской области». \n3.4. Оказание скорой медицинской помощи осуществляется в соответствии с приказом Министерства здравоохранения Российской Федерации от 23.10.2020 N 1144н (Приложение № 4 «Рекомендуемые штатные нормативы медицинской бригады\, количества выездных бригад скорой медицинской помощи\, медицинских работников при проведении соревнований»). \nОснованием для допуска лица\, занимающегося спортом\, к спортивным мероприятиям является наличие у него медицинского заключения о допуске к участию в спортивных соревнованиях. В заявке на участие в спортивных соревнованиях проставляется отметка «Допущен» напротив каждой фамилии спортсмена\, заверенная подписью врача по спортивной медицине и его личной печатью. Заявка на участие в спортивных соревнованиях подписывается врачом по спортивной медицине с расшифровкой фамилии\, имени\, отчества (при наличии) и заверяется печатью медицинской организации\, имеющей лицензию на осуществление медицинской деятельности\, предусматривающей работы (услуги) по лечебной физкультуре и спортивной медицине. \n3.5. Участие в соревнованиях осуществляется только при наличии договора (оригинал) о страховании от несчастных случаев (т.е. внезапных\, непредвиденных случаев\, повлекших за собой обращение в ЛПУ\, утрату трудоспособности либо смерть застрахованного лица)\, который предоставляется в мандатную комиссию на каждого участника соревнований. Страхование участников соревнований может проводиться как за счет бюджетных\, так и внебюджетных средств\, в соответствии с действующим законодательством Российской Федерации. \n3.6. Антидопинговое обеспечение спортивных мероприятий в Российской Федерации осуществляется в соответствии с Общероссийскими антидопинговыми правилами\, утвержденными приказом Минспорта России от 24 июня 2021 г. № 464. \n3.7. Ответственность за обеспечение безопасности участников и зрителей при проведении соревнования возлагается на МБУ ДО «ШШЦ» имени Е.Г. Зудова». \n3.8. Ответственными за соблюдение норм и правил безопасности при проведении соревнований являются: \n— главный судья – Иванов В.П.; \n— руководитель спортивного сооружения\, на котором проводится соревнование. \n3.9. В соответствии с регламентом по организации и проведению официальных физкультурных и спортивных мероприятий на территории Российской Федерации в условиях сохранения рисков распространения COVID-19\, утвержденным Минспортом России и Главным государственным санитарным врачом РФ 31.07.2020 года\, постановлением Главного государственного санитарного врача №18 от 07.07.2021 года\, Федерация обеспечивает реализацию мер установленных указом Губернатора Свердловской области № 100-УГ от 18.03.2020 (с изменениями)\,  а также иными методическими рекомендациями\, установленными Федеральной службой по надзору в сфере защиты прав потребителей и благополучия человека\, действующими на момент проведения спортивного мероприятия. \nСпортивное сооружение несет ответственность за соблюдение методических рекомендаций: МР 3.1/2.1.0184-20 (Рекомендации по организации работы спортивных организаций в условиях сохранения рисков распространения COVID-19)\, МР 3.1/2.1.0192-20 (Рекомендации по профилактике новой короновирусной инфекции (COVID-19) в учреждениях физической культуры и спорта (открытых и закрытых спортивных сооружениях\, физкультурно-оздоровительных комплексах\, плавательных бассейнах и фитнес-клубах))\, в том числе: \n\nобеспечивает условия для гигиенической обработки рук с применением кожных антисептиков на объектах спорта или в местах проведения соревнования\,\nперед открытием объекта спорта и в ежедневном режиме проводит генеральную уборку помещений и обработку спортивного инвентаря с применением дезинфицирующих средств\, активных в отношении вирусов\, проведение проветривания помещений каждые 2 часа и после проведения соревнования\,\nпроводит дезинфекционную обработку каждые 2 часа раздевалок\, туалетных комнат\, контактных поверхностей (поручни\, ручки дверей\, перила и пр.)\,\n\n  \n\nФИНАНСИРОВАНИЕ\n\n4.1. ГАУ СО «ЦСП»\, являясь соорганизатором соревнования\, осуществляет финансовое обеспечение соревнований в соответствии с «Нормами расходов средств на проведение физкультурных мероприятий и спортивных мероприятий\, включенных в календарный план официальных физкультурных мероприятий и спортивных мероприятий Свердловской области» в  части: предоставления наградной атрибутики\, на основании представленной Федерацией сметы. \n4.2. РОО «ФШСО» устанавливает призовой фонд в размере 30 000 рублей. \n4.3. Заявочные взносы расходуются на призовой фонд (60%) и организацию соревнований (40%)\, а именно приобретение канцелярских принадлежностей\, средств индивидуальной защиты\, обеспечение питьевого режима и т.д. \nОтветственность за сбор заявочных взносов несет ОО «НТМШФ»\, в лице исполнительного директора Погромского Михаила Сергеевича. \n4.4. Расходы по командированию участников\, тренеров\, представителей несут командирующие организации (в т.ч.\, проезд\, суточные в пути\, страхование участников). \n  \n\nУСЛОВИЯ ПРИЕМА УЧАСТНИКОВ СОРЕВНОВАНИЯ\n\nИ ПОДАЧА ЗАЯВОК \n5.1. Предварительные заявки на участие направляются по электронной почте на адрес ntagilchess@mail.ru до 31 октября 2023 года (22.00 мск). \nПри отсутствии предварительной заявки на участие участник соревнования может быть не допущен до соревнования. \n\nФорма предварительной заявки на участие в соревновании:\n\n  \n\n\n\nФИО\nДата рождения\nГород\nID/рейтинг ФШР по шахматам\nТелефон\n\n\n\n\n\n\n\n\n\n\n  \nСправочная информация: 8 (922) 218-86-27\, Усова Анна Сергеевна. \n  \n\nПРОГРАММА СОРЕВНОВАНИЯ\n\n6.1. Место проведения соревнования: г. Нижний Тагил\, ул. Газетная\, 109\, помещение МБУ ДО «ШШЦ» имени Е.Г. Зудова». \n6.2. Соревнование проводится по швейцарской системе в 7 туров. Контроль времени – 90 минут на партию каждому участнику с добавлением 30 секунд на каждый ход\, начиная с первого. Участникам запрещаются переговоры о ничьей до 40 хода включительно. \n6.3. Опоздание на тур более чем на 30 минут наказывается поражением. В этом случае сопернику ставится «+»\, опоздавшему «-». \n6.4. На организационном собрании участников избирается апелляционный комитет (АК)\, состоящий из  трех основных и двух запасных членов. При несогласии с решением главного арбитра заявление в АК подается участником в письменном виде не позднее 30 минут после окончания тура с внесением залоговой суммы 1000 (одна тысяча) рублей. При решении АК в пользу заявителя взнос возвращается. При неудовлетворительном протесте взнос поступает в Федерацию на покрытие расходов по проведению соревнования. Протесты по компьютерной жеребьевке не принимаются. Решение АК является окончательным. \n6.5. Расписание туров спортивного соревнования: \n  \n\n\n\nДата проведения\nВремя проведения\nНаименование мероприятия\n\n\n3 ноября\n10.00-16.00\nРегистрация участников соревнования\n\n\n16.00-16.15\nЖеребьевка\n\n\n16.30-20.30\n1 тур\n\n\n4 ноября\n10.00-14.00\n2 тур\n\n\n15.00-19.00\n3 тур\n\n\n5 ноября\n10.00-14.00\n4 тур\n\n\n15.00-19.00\n5 тур\n\n\n6 ноября\n10.00-14.00\n6 тур\n\n\n15.00-19.00\n7 тур\n\n\n19.15-19.30\nЗакрытие соревнования\, награждение\n\n\n\nВ программе возможны изменения. \n  \n\nНАГРАЖДЕНИЕ\n\n7.1. Победитель награждается кубком\, медалью и грамотой. Участники\, занявшие 2-3 места\, награждаются медалями и грамотами. \n7.2. Все призеры награждаются денежными призами. Количество призовых мест определяется оргкомитетом соревнования в зависимости от количества участников. По решению оргкомитета возможно установление дополнительных номинаций. \n7.3. Выплата призового фонда осуществляется ОО «НТМШФ» безналичным расчетом в течение месяца после окончания соревнования. Для получения приза необходимо предоставить на электронную почту ntagilchess@mail.ru следующие документы: \n— копия паспорта (основной страницы и регистрации)\, \n— ИНН\, \n— СНИЛС\, \n— банковские реквизиты (в виде банковской справки). \nДенежные призы подлежат налогообложению в соответствии с Законодательством РФ. \n7.4. Участник\, занявший 1 место\, объявляется Чемпионом Свердловской области по шахматам и получает право участия в Чемпионате УРФО по шахматам. \n7.5. Количество призовых мест и размеры денежных призов будут обозначены после 3-го тура. Гарантированный призовой фонд соревнования – 30 000 рублей. \n  \n\nКЛАССИФИКАЦИЯ СОРЕВНОВАНИЯ\n\n8.1. Соревнования являются личными и проводятся в следующих дисциплинах: \n\n\n\n№ п/п\nДисциплина\nКод спортивной дисциплины\n\n\n1\nШахматы\n88                    001 28 11 Я\n\n\n\n  \n\nТРЕБОВАНИЯ К УЧАСТНИКАМ СОРЕВНОВАНИЯ\,\n\nУСЛОВИЯ ДОПУСКА \n9.1. К участию в соревновании допускаются все желающие шахматисты Свердловской области\, имеющие спортивную подготовку по шахматам\, без требований к квалификации и  уплатившие заявочный взнос в размере 500 рублей в срок до 31 октября 2023 года. \n9.2. Заявочные взносы перечисляются на счет ОО «НТМШФ». \nБанковские реквизиты для перечисления заявочных взносов: \nПолучатель платежа: ОО «Нижнетагильская местная шахматная федерация» \n622036\, г. Нижний Тагил\, ул. Газетная\, д.81А\, \nИНН 6623996292; \nКПП 662301001; \nр/с 40703810362480000029 в ПАО «УБРИР»; \nк/с 30101810900000000795; \nБИК 046577795; \nИНН банка 6608008004; \nКПП банка 667101001. \nНазначение платежа: заявочный взнос за участие в Чемпионате Свердловской области по шахматам за ФИО участника. \n  \n  \n\nУСЛОВИЯ ПОДВЕДЕНИЯ ИТОГОВ\n\nПобедители и призеры определяются по наибольшей сумме набранных очков.\nВ случае равенства очков\, более высокое место определяется по дополнительным показателям в порядке убывания значимости:\n\n\nусеченный коэффициент Бухгольца – 1 (без одного худшего результата);\nкоэффициент Бухгольца;\nличная встреча;\nбольшее число побед;\nчисло партий\, сыгранных черными фигурами (несыгранные партии считаются как игранные «белыми» фигурами).\n\nПри проведении соревнования применяется компьютерная жеребьевка с использованием компьютерной программы «Swiss-Manager».\nОбсчет рейтинга ФИДЕ и российского рейтинга гарантируется.\n\n\n\n  \n  \nДанное положение является официальным вызовом на соревнование
URL:https://ural-chess.com/event/chempionat-sverdlovskoj-oblasti-sredi-muzhchin/
END:VEVENT
END:VCALENDAR