BEGIN:VCALENDAR
VERSION:2.0
PRODID:-//Федерация шахмат Свердловской области - ECPv6.3.5//NONSGML v1.0//EN
CALSCALE:GREGORIAN
METHOD:PUBLISH
X-WR-CALNAME:Федерация шахмат Свердловской области
X-ORIGINAL-URL:https://ural-chess.com
X-WR-CALDESC:Мероприятия для Федерация шахмат Свердловской области
REFRESH-INTERVAL;VALUE=DURATION:PT1H
X-Robots-Tag:noindex
X-PUBLISHED-TTL:PT1H
BEGIN:VTIMEZONE
TZID:Europe/Moscow
BEGIN:STANDARD
TZOFFSETFROM:+0300
TZOFFSETTO:+0300
TZNAME:MSK
DTSTART:20230101T000000
END:STANDARD
END:VTIMEZONE
BEGIN:VEVENT
DTSTART;TZID=Europe/Moscow:20230119T080000
DTEND;TZID=Europe/Moscow:20231231T170000
DTSTAMP:20260423T204050
CREATED:20240329T081738Z
LAST-MODIFIED:20240329T081738Z
UID:89199-1674115200-1704042000@ural-chess.com
SUMMARY:Календарный план АШРФ УрФО на 2023 год
DESCRIPTION:Календарный план АШРФ УрФО на 2023 год (Расширенный) — Календарный план АРШФ УФО на 2023 \nКалендарный план АШРФ УрФО на 2023 год (Краткий) — Календарный план АРШФ 2023 краткий \nКандидаты в сборные 2024: candidates_2024 \n  \n  \n 
URL:https://ural-chess.com/event/kalendarnyj-plan-ashrf-urfo-na-2023-god/
END:VEVENT
BEGIN:VEVENT
DTSTART;TZID=Europe/Moscow:20230504T080000
DTEND;TZID=Europe/Moscow:20230513T170000
DTSTAMP:20260423T204050
CREATED:20240329T081323Z
LAST-MODIFIED:20240329T081323Z
UID:89189-1683187200-1683997200@ural-chess.com
SUMMARY:Областное  соревнование ветеранов
DESCRIPTION:ПОЛОЖЕНИЕ: Положение ветераны 2023 \nИТОГОВАЯ ТАБЛИЦА И СПРАВКА О СУДЕЙСКОЙ КОЛЛЕГИИ: Таблица\, справка на сайт ветераны_0001 \n  \n  \n  \n\nhttps://ural-chess.com/wp-content/uploads/2023/05/VID_20230512_152844.mp4
URL:https://ural-chess.com/event/oblastnoe-sorevnovanie-veteranov/
END:VEVENT
BEGIN:VEVENT
DTSTART;TZID=Europe/Moscow:20230504T080000
DTEND;TZID=Europe/Moscow:20230521T170000
DTSTAMP:20260423T204050
CREATED:20240329T081217Z
LAST-MODIFIED:20240329T081217Z
UID:89187-1683187200-1684688400@ural-chess.com
SUMMARY:Детский и взрослый фестиваль "Орбита"
DESCRIPTION:ПОЛОЖЕНИЯ ДЕТСКОГО И ВЗРОСЛОГО ФЕСТИВАЛЯ «ОРБИТА» \nДетский: Соревнования по быстрым шахматам среди детей — Орбита \nВзрослый: Соревнования по быстрым шахматам среди взрослых — Орбита \nИТОГИ \n  \n  \n  \n  \n  \n  \n  \n  \n  \n 
URL:https://ural-chess.com/event/detskij-i-vzroslyj-festival-orbita/
END:VEVENT
BEGIN:VEVENT
DTSTART;TZID=Europe/Moscow:20230511T080000
DTEND;TZID=Europe/Moscow:20230522T170000
DTSTAMP:20260423T204050
CREATED:20240329T081128Z
LAST-MODIFIED:20240329T081128Z
UID:89185-1683792000-1684774800@ural-chess.com
SUMMARY:«Кубок Главы Камышловского городского округа»
DESCRIPTION:«Кубок Главы Камышловского городского округа» \nПОДРОБНАЯ ИНФОРМАЦИЯ В ПОЛОЖЕНИИ. \nКубок Главы Камышловского городского округа положение_0001 \nКубок Главы Камышловского городского округа 1 стр с печатями \nПОЛОЖЕНИЕ: первая страница с печатями — ! страница Шахматы \nИТОГИ ЗДЕСЬ \nФото Вячеслава Давыдова https://vk.com/album-139291022_293241807 \nВидео смотрите здесь https://vk.com/video-139291022_456239194?list=0b90148b0752ab5d41  \nИТОГОВЫЕ ТАБЛИЦЫ: Дивочки до 11 лет \nДивочки и мальчики до 13 лет \nМальчики до 11 лет \nМальчики до 11 лет_0001 \nСудьи \nhttps://ural-chess.com/wp-content/uploads/2023/05/VID-20230731-WA0009.mp4
URL:https://ural-chess.com/event/kubok-glavy-kamyshlovskogo-gorodskogo-okruga/
END:VEVENT
END:VCALENDAR