BEGIN:VCALENDAR
VERSION:2.0
PRODID:-//Федерация шахмат Свердловской области - ECPv6.3.5//NONSGML v1.0//EN
CALSCALE:GREGORIAN
METHOD:PUBLISH
X-ORIGINAL-URL:https://ural-chess.com
X-WR-CALDESC:Мероприятия для Федерация шахмат Свердловской области
REFRESH-INTERVAL;VALUE=DURATION:PT1H
X-Robots-Tag:noindex
X-PUBLISHED-TTL:PT1H
BEGIN:VTIMEZONE
TZID:Europe/Moscow
BEGIN:STANDARD
TZOFFSETFROM:+0300
TZOFFSETTO:+0300
TZNAME:MSK
DTSTART:20220101T000000
END:STANDARD
END:VTIMEZONE
BEGIN:VEVENT
DTSTART;TZID=Europe/Moscow:20221010T080000
DTEND;TZID=Europe/Moscow:20221219T170000
DTSTAMP:20260424T053132
CREATED:20240329T082348Z
LAST-MODIFIED:20240329T082348Z
UID:89213-1665388800-1671469200@ural-chess.com
SUMMARY:Этап Кубка Свердловской области по рапиду - Кубок Политехника
DESCRIPTION:Этап Кубка Свердловской области по рапиду — Кубок Политехника \nПОЛОЖЕНИЕ: Политехник
URL:https://ural-chess.com/event/etap-kubka-sverdlovskoj-oblasti-po-rapidu-kubok-politehnika/
END:VEVENT
BEGIN:VEVENT
DTSTART;TZID=Europe/Moscow:20221104T080000
DTEND;TZID=Europe/Moscow:20221121T170000
DTSTAMP:20260424T053132
CREATED:20240329T082307Z
LAST-MODIFIED:20240329T082307Z
UID:89211-1667548800-1669050000@ural-chess.com
SUMMARY:Областное соревнование Мемориал А. А. Алёхина — первого русского чемпиона мира — этап Кубка Свердловской области среди мальчиков и девочек
DESCRIPTION:Областное соревнование Мемориал А. А. Алёхина — первого русского чемпиона мира — этап Кубка Свердловской области среди мальчиков и девочек \nПРОЕКТ ПОЛОЖЕНИЯ: положение _Алехин
URL:https://ural-chess.com/event/oblastnoe-sorevnovanie-memorial-a-a-alyohina-pervogo-russkogo-chempiona-mira-etap-kubka-sverdlovskoj-oblasti-sredi-malchikov-i-devochek/
END:VEVENT
END:VCALENDAR