BEGIN:VCALENDAR
VERSION:2.0
PRODID:-//Федерация шахмат Свердловской области - ECPv6.3.5//NONSGML v1.0//EN
CALSCALE:GREGORIAN
METHOD:PUBLISH
X-WR-CALNAME:Федерация шахмат Свердловской области
X-ORIGINAL-URL:https://ural-chess.com
X-WR-CALDESC:Мероприятия для Федерация шахмат Свердловской области
REFRESH-INTERVAL;VALUE=DURATION:PT1H
X-Robots-Tag:noindex
X-PUBLISHED-TTL:PT1H
BEGIN:VTIMEZONE
TZID:Europe/Moscow
BEGIN:STANDARD
TZOFFSETFROM:+0300
TZOFFSETTO:+0300
TZNAME:MSK
DTSTART:20220101T000000
END:STANDARD
END:VTIMEZONE
BEGIN:VEVENT
DTSTART;TZID=Europe/Moscow:20221010T080000
DTEND;TZID=Europe/Moscow:20221016T170000
DTSTAMP:20260424T103039
CREATED:20240329T082436Z
LAST-MODIFIED:20240329T082436Z
UID:89215-1665388800-1665939600@ural-chess.com
SUMMARY:Областные соревнования «Кубок УГМК» (мальчики/девочки до 13 лет\, до 10 лет) по быстрым шахматам
DESCRIPTION:Областные соревнования «Кубок УГМК» (мальчики/девочки до 13 лет\, до 10 лет) по быстрым шахматам \nПОДРОБНОСТИ В ПРОЕКТЕ ПОЛОЖЕНИЯ: \n\n\n\n«Утверждено»\n«Утверждаю»\n\n\nИсполнительный директор Региональной общественной организации «Федерация шахмат Свердловской области»   ___________________ А.А. Степанян «_____»____________ 2022 г. М.П.\nДиректор государственного автономного учреждения Свердловской области «Центр спортивной подготовки спортивных сборных команд Свердловской области»   ____________________ Ю.М. Леонов «_____»_____________ 2022 г. М.П.\n\n\n«Согласовано»\n«Согласовано»\n\n\nДиректор по персоналу и общим вопросам Открытого акционерного общества «Уральская горно-металлургическая компания»   ___________________ Д.С. Малышев «_____»____________ 2022 г. М.П.\nНачальник муниципального казённого учреждения «Управление физической культуры\, спорта и молодежной политики городского округа Верхняя Пышма»   ____________________ А.В. Британов «_____»_____________ 2022 г. М.П.\n\n\n«Согласовано»\n\n\nПрезидент Местной физкультурно-спортивной общественной организации «Федерация шахмат Верхней Пышмы»   ___________________ А.Х. Махмудов «_____»____________ 2022 г. М.П.\n\n\n\nРегламент \nо проведении областных соревнований «Кубок УГМК» \n(мальчики/девочки до 13 лет\, до 10 лет) быстрые шахматы \n1. Общие положения \n1.1. Областные соревнования «Кубок УГМК» (мальчики/девочки до 13 лет\, до 10 лет) быстрые шахматы (далее по тексту – соревнование) проводится с целью дальнейшей популяризации вида спорта «шахматы» в Свердловской области\, присвоения разрядных нормативов\, повышения спортивного мастерства спортсменов по виду спорта «шахматы»\, с целью отбора спортсменов для участия в официальных физкультурных мероприятиях Свердловской области\, а также с целью выявления сильнейших спортсменов для формирования спортивных сборных команд Свердловской области по виду спорта «шахматы». \n1.2. Соревнование проводится в соответствии с календарным планом официальных физкультурных мероприятий и спортивных мероприятий Свердловской области на 2022 год\, утверждённым приказом № 70/СМ от «30» декабря 2021г. Министерства физической культуры и спорта Свердловской области. \n1.3. Соревнование проводится в соответствии с правилами вида спорта «шахматы»\, утвержденными приказом Министерства спорта России от 29.12.2020 г. № 988. \n1.4. Регламент утверждается в соответствии с Положением о региональных официальных спортивных соревнованиях по виду спорта «шахматы» на 2022 год (далее – положение). \n2. Организатор проведения спортивного мероприятия \n2.1. В соответствии с Положением организаторами соревнований являются государственное автономное учреждение Свердловской области «Центр спортивной подготовки спортивных сборных команд Свердловской области» (далее – ГАУ СО «ЦСП») и Региональная общественная организация «Федерация шахмат Свердловской области (далее – РОО «ФШСО»)\, при организационной поддержке Местной физкультурно-спортивной общественной организации «Федерация шахмат Верхней Пышмы» (далее – Федерация шахмат Верхней Пышмы)\, Муниципального казенного учреждения «Управление физической культуры\, спорта и молодежной политике городского округа Верхняя Пышма (далее – Управление) и Открытого акционерного общества «Уральская горно-металлургическая компания» (далее — ОАО «УГМК»). \n2.2. РОО «ФШСО» является ответственным из числа организаторов по обеспечению совместно с собственниками\, пользователями объекта спорта\, на котором будет проходить данное соревнование\, мер общественного порядка и общественной безопасности в соответствии с законодательством Российской Федерации. \n2.3. РОО «ФШСО» обязана обеспечить на территории\, которая будет использована для проведения спортивного мероприятия\, необходимую инфраструктуру и техническое оборудование в соответствии с правилами обеспечения безопасности при проведении официальных спортивных соревнований. \nНе допускать демонстрации участниками и персоналом соревнований атрибутов иностранных государств и территорий\, совершающих в отношении Российской Федерации\, российских юридических лиц и физических лиц недружественные действия\, включенных в перечень\, утвержденный распоряжением Правительства Российской Федерации от 05.03.2022 № 430-р\, в том числе использование предметов материального мира с нанесенными на них наименованиями\, государственными символами\, географическими границами таких государств и территорий и иными изображениями\, позволяющими идентифицировать указанные государства и территории. \n2.4. Непосредственное проведение возлагается на судейскую коллегию по виду спорта «шахматы»\, главного судью соревнований Комиссарова Владимира Владимировича\, ССВК\, (Свердловская область). \nДиректор соревнования – Саматова Оксана Валерьевна\, конт. тел.: 8(904) 540-00-40. \n3. Обеспечение безопасности участников и зрителей\, Медицинское обеспечение\,\nАнтидопинговое обеспечение спортивных соревнований \n3.1. Спортивные соревнования проводятся в соответствии с Федеральным законом от 04.12.2007 г. № 329-ФЗ «О физической культуре и спорте в Российской Федерации». \nСоревнования могут проводиться в местах проведения официальных спортивных соревнований и должны иметь необходимую инфраструктуру\, системы видеонаблюдения\, позволяющие осуществлять идентификацию физических лиц во время их нахождения в местах проведения официальных спортивных соревнований\, и техническое оборудование в соответствии с правилами обеспечения безопасности при проведении официальных спортивных соревнований согласно п. 9 ст.37 «объекты спорта» 329-ФЗ. \n3.2. Лица\, в собственности или во владении которых находятся объекты спорта\, обеспечивают надлежащее техническое оборудование мест проведения физкультурных мероприятий или спортивных мероприятий в соответствии с требованиями технических регламентов\, нормами\, правилами и требованиями\, установленными органами государственного контроля (надзора)\, санитарными правилами и несут ответственность в соответствии с законодательством Российской Федерации за причинение вреда жизни или здоровью лиц\, осуществляющих занятия физической культурой и спортом на таких объектах спорта. \n3.3 Обеспечение безопасности участников и зрителей на спортивных соревнованиях осуществляется согласно требованиям Правил обеспечения безопасности при проведении официальных спортивных соревнований\, утвержденных постановлением Правительства Российской Федерации от 18.04.2014 г. № 353. \n3.3.1. Правила охраны жизни людей на водных объектах в Свердловской области осуществляются согласно постановлению Правительства Свердловской области от 27.09.2018 года № 639-ПП «Об утверждении правил охраны жизни людей на водных объектах в Свердловской области». \n3.4. Оказание скорой медицинской помощи осуществляется в соответствии с приказом Министерства здравоохранения Российской Федерации от 23.10.2020 N 1144н (Приложение № 4 «Рекомендуемые штатные нормативы медицинской бригады\, количества выездных бригад скорой медицинской помощи\, медицинских работников при проведении соревнований»). \nОснованием для допуска лица\, занимающегося спортом\, к спортивным мероприятиям является наличие у него медицинского заключения о допуске к участию в спортивных соревнованиях. В заявке на участие в спортивных соревнованиях проставляется отметка «Допущен» напротив каждой фамилии спортсмена\, заверенная подписью врача по спортивной медицине и его личной печатью. Заявка на участие в спортивных соревнованиях подписывается врачом по спортивной медицине с расшифровкой фамилии\, имени\, отчества (при наличии) и заверяется печатью медицинской организации\, имеющей лицензию на осуществление медицинской деятельности\, предусматривающей работы (услуги) по лечебной физкультуре и спортивной медицине. \n3.5. Участие в соревнованиях осуществляется только при наличии договора (оригинал) о страховании от несчастных случаев (т.е. внезапных\, непредвиденных случаев\, повлекших за собой обращение в ЛПУ\, утрату трудоспособности либо смерть застрахованного лица)\, который предоставляется в мандатную комиссию на каждого участника соревнований. Страхование участников соревнований может проводиться как за счет бюджетных\, так и внебюджетных средств\, в соответствии с действующим законодательством Российской Федерации. \n3.6. Антидопинговое обеспечение спортивных мероприятий в Российской Федерации осуществляется в соответствии с Общероссийскими антидопинговыми правилами\, утвержденными приказом Минспорта России от 24 июня 2021 г. № 464. \n3.7. Ответственность за обеспечение безопасности участников и зрителей при проведении соревнования возлагается на РОО «ФШСО». \n3.8. Ответственными за соблюдение норм и правил безопасности при проведении соревнований являются: \n— главный судья – Комиссаров Владимир Владимирович; \n— руководитель спортсооружения\, на котором проводится соревнование. \n3.9. В соответствии с регламентом по организации и проведению официальных физкультурных и спортивных мероприятий на территории Российской Федерации в условиях сохранения рисков распространения COVID-19\, утвержденным Минспортом России и Главным государственным санитарным врачом РФ 31.07.2020 года\, постановлением Главного государственного санитарного врача №18 от 07.07.2021 года\, Федерация обеспечивает реализацию мер установленных указом Губернатора Свердловской области № 100-УГ от 18.03.2020 (с изменениями)\,  а также иными методическими рекомендациями\, установленными Федеральной службой по надзору в сфере защиты прав потребителей и благополучия человека\, действующими на момент проведения спортивного мероприятия. \nСпортивное сооружение несет ответственность за соблюдение методических рекомендаций: МР 3.1/2.1.0184-20 (Рекомендации по организации работы спортивных организаций в условиях сохранения рисков распространения COVID-19)\, МР 3.1/2.1.0192-20 (Рекомендации по профилактике новой короновирусной инфекции (COVID-19) в учреждениях физической культуры и спорта (открытых и закрытых спортивных сооружениях\, физкультурно-оздоровительных комплексах\, плавательных бассейнах и фитнес-клубах))\, в том числе: \n— обеспечивает условия для гигиенической обработки рук с применением кожных антисептиков на объектах спорта или в местах проведения соревнования\, \n— перед открытием объекта спорта и в ежедневном режиме проводит генеральную уборку помещений и обработку спортивного инвентаря с применением дезинфицирующих средств\, активных в отношении вирусов\, проведение проветривания помещений каждые 2 часа и после проведения соревнования\, \n— проводит дезинфекционную обработку каждые 2 часа раздевалок\, туалетных комнат\, контактных поверхностей (поручни\, ручки дверей\, перила и пр.). \n4. Финансирование \n4.1. ОАО «УГМК» и Федерация шахмат Верхней Пышмы несет расходы по награждению победителей и призеров соревнования\, организации медицинского сопровождения\, на приобретение канцелярских товаров\, расходы по обеспечению общественного порядка и безопасности\, а также иные расходы по организации и проведению соревнований. \n4.2. Вступительные взносы расходуются на организацию соревнования. \nОтветственным за сбор вступительных взносов является РОО «ФШСО». \n4.3. Расходы по командированию участников\, тренеров\, представителей несут командирующие организации (в т.ч. проезд\, проживание\, суточные в пути\, страхование участников). \n5. УСЛОВИЯ ПРИЕМА УЧАСТНИКОВ СОРЕВНОВАНИЙ И ПОДАЧА ЗАЯВОК \n5.1. Предварительные заявки на участие в спортивном соревновании подаются на почту главного секретаря по e-mail: 66manager@mail.ru до 12 октября 2022 г. до 14:00 местного времени. \n5.2. Окончательная заявка подается при регистрации участников соревнования 15.10.2022г. \n5.2.1. К заявке прилагаются следующие документы на каждого спортсмена: \n— копия или оригинал свидетельства о рождении; \n— копия или оригинал договора страхования жизни и здоровья от несчастных случаев; \n— копия или оригинал полиса обязательного медицинского страхования; \n— медицинская справка о допуске к соревнованиям; \n5.3. Форма предварительной заявки на участие в соревновании: \n\n\n\n№ п/п\nФамилия\, имя\, отчество\nДата рождения\nРазряд\nID/рейтинг ФШР по быстрым шахматам\nГород/контактный телефон\n\n\n\n5.4. Список участников будет размещен 13 октября 2022 г. до 15:00 на сайте РОО «ФШСО»: ural-chess.com. \nСписок участников\, а также дополнительная информация о турнире (проезд\, размещение и др.) будет также размещен на сайте Федерации шахмат Верхней Пышмы chessvp.ru. \n6. ПРОГРАММА СОРЕВНОВАНИЯ \n6.1. Место проведения соревнования: г. Верхняя Пышма\, ул. Горняков\, 1б\, помещение Дворца самбо и единоборств. \n6.2. Заседание судейской коллегии состоится 15.10.2022 г. в 9:00 часов\, по адресу: г. Верхняя Пышма\, ул. Горняков\, 1б. \n6.3. Заседание комиссии по допуску состоится 15.10.2022 г. с 9:00 до 10:30 часов\, по адресу: г. Верхняя Пышма\, ул. Горняков\, 1б. \n6.4. Жеребьевка участников состоится 15.10.2022 г. в 10:45 часов\, по адресу: г. Верхняя Пышма\, ул. Горняков\, 1б. \n6.5. Расписание туров спортивного соревнования: \n\n\n\nДата проведения\nВремя проведения\nНаименование мероприятия\n\n\n15 октября 2022 г.\n9.15 – 10.45\nРегистрация участников соревнования\n\n\n10.45 – 11.00\nОткрытие соревнования\n\n\n11.00 – 14.00\n1-5 туры\n\n\n14.00 – 15.00\nОбед\n\n\n15.00 – 17.30\n6-9 туры\n\n\n18.00 – 18.30\nЗакрытие соревнования\, награждение\n\n\n\n7. Классификация соревнований \nСоревнования являются личными и проводятся в следующих дисциплинах: \n\n\n\n№ п/п\nДисциплина\nКод спортивной дисциплины\n\n\n1\nБыстрые шахматы\n088 0032811Я\n\n\n\n8. Требования к участникам соревнования\, условия допуска \n8.1. Соревнование проводится среди спортсменов Свердловской области\, имеющих спортивную подготовку по виду спорта «шахматы» без требований по разряду. \n8.2. К участию в соревновании допускаются спортсмены возраста: мальчики и девочки до 10 лет (2013 г.р. и моложе)\, до 13 лет (2010 – 2012 г.р.)\, уплатившие турнирный взнос в размере 500 (пятьсот) рублей в срок до 12 октября 2022 г. \n8.3. Турнирные взносы перечисляются на счет МФСОО «Федерация шахмат Верхней Пышмы». \nБанковские реквизиты для перечисления турнирных взносов: \nПОЛУЧАТЕЛЬ ПЛАТЕЖА: МФСОО «Федерация шахмат Верхней Пышмы» \nИНН   6686111986 \nКПП   668601001 \nОГРН 1196658000241 \nр/с 40703810702970000075 \nв ПАО «МОСКОВСКИЙ КРЕДИТНЫЙ БАНК»\, г. Москва \nк/с: 3010181074520000659 \nБИК 044525659 \nНАЗНАЧЕНИЕ ПЛАТЕЖА: Турнирный взнос за участие в турнире по шахматам на Кубок УГМК за (ФИО участника). \n9. Условия проведения соревнования \n9.1. Соревнование проводится четырьмя отдельными турнирами. \nТурнир «А» — областные соревнования по быстрым шахматам – «Кубок УГМК» среди мальчиков до 10 лет. \nТурнир «В» — областные соревнования по быстрым шахматам – «Кубок УГМК» среди девочек до 10 лет. \nТурнир «С» — областные соревнования по быстрым шахматам – «Кубок УГМК» среди мальчиков до 13 лет. \nТурнир «D» — областные соревнования по быстрым шахматам – «Кубок УГМК» среди девочек до 13 лет. \n9.2. При количестве участников в группе более 10 человек турнир проводится по швейцарской системе в 9 туров. \nПри количестве участников от 8 до 10 человек турнир проводится по круговой системе. \nПри количестве участников менее 8 человек возрастные группы могут быть объединены на усмотрение главного судьи. \n9.3. Контроль времени – 10 минут каждому участнику с добавлением 5 секунд на ход\, начиная с первого. \nПри проведении соревнования применяется компьютерная жеребьевка с использованием программы SWISS MANAGER. \nПоведение участников регламентируется Положением «О спортивных санкциях в виде спорта «шахматы». \n10. УСЛОВИЯ подведения итогов \n10.1. Итоговые места в каждом турнире определяются по сумме набранных очков. \n10.2. В случае равенства очков более высокое место определяется для соревнований\, проводимых по швейцарской системе: \nа)         коэффициент Бухгольца; \nб)         усеченный коэффициент Бухгольца (без одного худшего результата); \nв)         большее число побед; \nг)         личная встреча; \nд)         число партий\, сыгранных черными фигурами (несыгранные партии считаются как «игранные» белыми фигурами); \nе)         средний российский рейтинг соперников. \nдля соревнований \, проводимых по круговой системе – \nа)         личная встреча; \nб)         Зоннеборн-Бергер; \nв)         система Койя; \nг)         большее число побед. \nВ случае равенства очков и всех дополнительных показателей при дележе призовых мест денежные призы делятся\, медали и дипломы по жребию. \n10.4. РОО «ФШСО» в течение 10 дней после окончания соревнований предоставляет отчет главной судейской коллегии (ГСК); протоколы; список судейской коллегии с указанием судейской категории и должности; список участников с указанием принадлежности спортивной школе/клубу и т.п.\, город\, в ГАУ СО «ЦСП». Документы должны быть подписаны ответственным лицом и скреплены печатью РОО «ФШСО» \n11. Награждение \n11.1. Победители турниров среди мальчиков и девочек награждаются кубками ОАО «УГМК»\, медалями и денежными призами в размере 12 тыс. руб. каждый (-ая). \nУчастники\, занявшие вторые места\, награждаются медалями и денежными призами в размере 10 тыс. руб. каждый (-ая). \nУчастники\, занявшие третьи места\, награждаются медалями и денежными призами в размере 8 тыс. руб. каждый (-ая). \nУчастники\, занявшие 4\, 5 и 6 места\, награждаются денежными призами в размере 4 тыс. руб.\, 3 тыс. руб. и 2 тыс. руб. каждый (-ая) соответственно. \n11.2. Возможны дополнительные специальные призы и сувениры. \n11.3 Победители и призеры обязаны уплатить подоходный налог с денежного приза согласно действующего законодательства. \nРегламент является вызовом на соревнование
URL:https://ural-chess.com/event/oblastnye-sorevnovaniya-kubok-ugmk-malchiki-devochki-do-13-let-do-10-let-po-bystrym-shahmatam/
END:VEVENT
BEGIN:VEVENT
DTSTART;TZID=Europe/Moscow:20221006T080000
DTEND;TZID=Europe/Moscow:20221017T170000
DTSTAMP:20260424T103039
CREATED:20240329T082530Z
LAST-MODIFIED:20240329T082530Z
UID:89217-1665043200-1666026000@ural-chess.com
SUMMARY:Чемпионат Свердловской области (мужчины/женщины) быстрые шахматы (командные соревнования)
DESCRIPTION:Чемпионат Свердловской области (мужчины/женщины) быстрые шахматы (командные соревнования) — ПОЛОЖЕНИЕ С ПЕЧАТЬЮ: шахматы
URL:https://ural-chess.com/event/chempionat-sverdlovskoj-oblasti-muzhchiny-zhenshhiny-bystrye-shahmaty-komandnye-sorevnovaniya/
END:VEVENT
BEGIN:VEVENT
DTSTART;TZID=Europe/Moscow:20221005T080000
DTEND;TZID=Europe/Moscow:20221010T170000
DTSTAMP:20260424T103039
CREATED:20240329T082708Z
LAST-MODIFIED:20240329T082708Z
UID:89221-1664956800-1665421200@ural-chess.com
SUMMARY:V этап Кубка Свердловской области по быстрым шахматам – Кубок Главы города Каменска – Уральского (мужчины\, женщины)
DESCRIPTION:V этап Кубка Свердловской области по быстрым шахматам – Кубок Главы города Каменска – Уральского (мужчины\, женщины)\nПОЛОЖЕНИЕ С ПЕЧАТЬЮ:
URL:https://ural-chess.com/event/v-etap-kubka-sverdlovskoj-oblasti-po-bystrym-shahmatam-kubok-glavy-goroda-kamenska-uralskogo-muzhchiny-zhenshhiny/
END:VEVENT
END:VCALENDAR