BEGIN:VCALENDAR
VERSION:2.0
PRODID:-//Федерация шахмат Свердловской области - ECPv6.3.5//NONSGML v1.0//EN
CALSCALE:GREGORIAN
METHOD:PUBLISH
X-ORIGINAL-URL:https://ural-chess.com
X-WR-CALDESC:Мероприятия для Федерация шахмат Свердловской области
REFRESH-INTERVAL;VALUE=DURATION:PT1H
X-Robots-Tag:noindex
X-PUBLISHED-TTL:PT1H
BEGIN:VTIMEZONE
TZID:Europe/Moscow
BEGIN:STANDARD
TZOFFSETFROM:+0300
TZOFFSETTO:+0300
TZNAME:MSK
DTSTART:20240101T000000
END:STANDARD
END:VTIMEZONE
BEGIN:VEVENT
DTSTART;TZID=Europe/Moscow:20240522T080000
DTEND;TZID=Europe/Moscow:20241229T170000
DTSTAMP:20260422T144042
CREATED:20240522T100821Z
LAST-MODIFIED:20240522T100844Z
UID:90993-1716364800-1735491600@ural-chess.com
SUMMARY:Кубок Компрессорного микрорайона
DESCRIPTION:ПОЛОЖЕНИЕ: kubok-kompressornogo-mikrorajona-2024
URL:https://ural-chess.com/event/kubok-kompressornogo-mikrorajona/
END:VEVENT
BEGIN:VEVENT
DTSTART;TZID=Europe/Moscow:20240716T080000
DTEND;TZID=Europe/Moscow:20240813T170000
DTSTAMP:20260422T144042
CREATED:20240716T193338Z
LAST-MODIFIED:20240903T135459Z
UID:92367-1721116800-1723568400@ural-chess.com
SUMMARY:Рапид Гран-при России - Кубок Екатеринбурга
DESCRIPTION:Рапид Гран-при России — Кубок Екатеринбурга \nПОЛОЖЕНИЕ С ПЕЧАТЯМИ: Положение Кубок Екатеринбурга 2024г. РАПИД Гран-При России \nИНФОРМАЦИЯ ПО ПРОЖИВАНИЮ: Проживание 10-14.08.2024 \nИтоговая таблица с печатью и справка судейской коллегии: Итоговая таблица и справка Кубок Екатеринбурга 2024г._0001 \n 
URL:https://ural-chess.com/event/rapid-gran-pri-rossii-kubok-ekaterinburga/
END:VEVENT
BEGIN:VEVENT
DTSTART;TZID=Europe/Moscow:20240716T080000
DTEND;TZID=Europe/Moscow:20240814T170000
DTSTAMP:20260422T144042
CREATED:20240716T193556Z
LAST-MODIFIED:20240903T134600Z
UID:92370-1721116800-1723654800@ural-chess.com
SUMMARY:Блиц Гран-при России - Кубок Рашковского-Фрадкина
DESCRIPTION:Блиц Гран-при России — Кубок Рашковского-Фрадкина \nПОЛОЖЕНИЕ С ПЕЧАТЯМИ: Положение Кубок Рашковского Н.Н. и Фрадкина Б.И. 2024г. БЛИЦ Гран-При России \nПРОЖИВАНИЕ: Проживание 10-14.08.2024 \nИТОГОВАЯ ТАБЛИЦА С ПЕЧАТЯМИ И СПРАВКА СУДЕЙСКОЙ КОЛЛЕГИИ: Итоговая таблица и справка Кубок Рашковского Н.Н. и Фрадкина Б.И. 2024г._0001 \n  \n 
URL:https://ural-chess.com/event/blicz-gran-pri-rossii-kubok-rashkovskogo-fradkina/
END:VEVENT
BEGIN:VEVENT
DTSTART;TZID=Europe/Moscow:20240722T080000
DTEND;TZID=Europe/Moscow:20240828T170000
DTSTAMP:20260422T144042
CREATED:20240722T154059Z
LAST-MODIFIED:20240830T063451Z
UID:92562-1721635200-1724864400@ural-chess.com
SUMMARY:Регламенты ПСО 2024 И ПРОЖИВАНИЕ
DESCRIPTION:РЕГЛАМЕНТЫ с печатями ПСО 2024 \nРегламент о проведении Первенства Свердловской области по блицу_0001  \nРегламент о проведении Первенства Свердловской области по быстрым шахматам_0001 \nРегламент о проведении Первенства Свердловской области по шахматной композиции_0001  \nРегламент о проведении Первенства Свердловской области по шахматам._0001 \nПитание и проживание ПСО 2024 \nИТОГОВЫЕ ТАБЛИЦЫ С ПЕЧАТЯМИ И СУДЕЙСКИЕ СПРАВКИ: \nИтоговые таблицы и справка ПСО композиция_0001 \nИтоговые таблицы и справка ПСО быстрые шахматы_0001  \nИтоговые таблицы и справка ПСО блиц_0001 \nИтоговые таблицы и справка ПСО шахматы_0001 \n 
URL:https://ural-chess.com/event/reglamenty-pso-2024-i-prozhivanie/
END:VEVENT
BEGIN:VEVENT
DTSTART;TZID=Europe/Moscow:20240802T080000
DTEND;TZID=Europe/Moscow:20240819T170000
DTSTAMP:20260422T144042
CREATED:20240802T171154Z
LAST-MODIFIED:20240802T171154Z
UID:92833-1722585600-1724086800@ural-chess.com
SUMMARY:Командный чемпионат Екатеринбурга по рапиду
DESCRIPTION:ПРОЕКТ ПОЛОЖЕНИЯ: komandy-2024 \nПРИЛОЖЕНИЕ К ПОЛОЖЕНИЮ: Приложение к положению 18.08.2024
URL:https://ural-chess.com/event/komandnyj-chempionat-ekaterinburga-po-rapidu/
END:VEVENT
END:VCALENDAR