BEGIN:VCALENDAR
VERSION:2.0
PRODID:-//Федерация шахмат Свердловской области - ECPv6.3.5//NONSGML v1.0//EN
CALSCALE:GREGORIAN
METHOD:PUBLISH
X-WR-CALNAME:Федерация шахмат Свердловской области
X-ORIGINAL-URL:https://ural-chess.com
X-WR-CALDESC:Мероприятия для Федерация шахмат Свердловской области
REFRESH-INTERVAL;VALUE=DURATION:PT1H
X-Robots-Tag:noindex
X-PUBLISHED-TTL:PT1H
BEGIN:VTIMEZONE
TZID:Europe/Moscow
BEGIN:STANDARD
TZOFFSETFROM:+0300
TZOFFSETTO:+0300
TZNAME:MSK
DTSTART:20240101T000000
END:STANDARD
END:VTIMEZONE
BEGIN:VEVENT
DTSTART;TZID=Europe/Moscow:20240407T080000
DTEND;TZID=Europe/Moscow:20240407T170000
DTSTAMP:20260422T214916
CREATED:20240407T063155Z
LAST-MODIFIED:20240407T064218Z
UID:89854-1712476800-1712509200@ural-chess.com
SUMMARY:Итоговые таблицы по решению композиций первенства России
DESCRIPTION:Итоговая_Д_11_композиция \nИтоговая_Д_13_композиция Итоговая_Д_15_композиция Итоговая_Д_17_композиция Итоговая_Д_19_композиция Итоговая_М_11_композиция Итоговая_М_13_композиция Итоговая_Ю_15_композиция Итоговая_Ю_17_композиция Итоговая_Ю_19_композиция
URL:https://ural-chess.com/event/itogovye-tabliczy-po-resheniyu-kompoziczij-pervenstva-rossii/
END:VEVENT
BEGIN:VEVENT
DTSTART;TZID=Europe/Moscow:20240407T080000
DTEND;TZID=Europe/Moscow:20240425T170000
DTSTAMP:20260422T214916
CREATED:20240407T062731Z
LAST-MODIFIED:20240407T062731Z
UID:89852-1712476800-1714064400@ural-chess.com
SUMMARY:Уральский ферзь
DESCRIPTION:Положение Уральский Ферзь им. А.Е. Карпова 2024_0001
URL:https://ural-chess.com/event/uralskij-ferz/
END:VEVENT
BEGIN:VEVENT
DTSTART;TZID=Europe/Moscow:20240426T080000
DTEND;TZID=Europe/Moscow:20240519T170000
DTSTAMP:20260422T214916
CREATED:20240426T034018Z
LAST-MODIFIED:20240517T103042Z
UID:90510-1714118400-1716138000@ural-chess.com
SUMMARY:Фестиваль "Орбита"
DESCRIPTION:ПОЛОЖЕНИЯ С ПЕЧАТЯМИ: Положение МД до 9\,11\,13 лет; ЮД до 15 лет Орбита 2024_0001 \nПоложение по быстрым шахматам Орбита 2024_0001 \n  \n  \n  \n  \n 
URL:https://ural-chess.com/event/festival-orbita/
END:VEVENT
END:VCALENDAR